BEGIN:VCALENDAR
VERSION:2.0
PRODID:icalendar-ruby
CALSCALE:GREGORIAN
METHOD:PUBLISH
BEGIN:VEVENT
DTSTAMP:20260422T173147Z
UID:17b17c16-5aa2-4ccc-9c3d-2a074e30846f
DTSTART;VALUE=DATE:20260711
DTEND;VALUE=DATE:20260824
DESCRIPTION:Fijne zomervakantie!
SUMMARY:Zomervakantie  regio Zuid
END:VEVENT
END:VCALENDAR
