BEGIN:VCALENDAR
VERSION:2.0
PRODID:icalendar-ruby
CALSCALE:GREGORIAN
METHOD:PUBLISH
BEGIN:VEVENT
DTSTAMP:20260422T173457Z
UID:3bc94e38-13b8-48ea-8d60-3b91ee04584e
DTSTART;VALUE=DATE:20260725
DTEND;VALUE=DATE:20260809
DESCRIPTION:Pride is een jaarlijkse viering en herdenking van de identiteit
  van LHBTI+ (lesbische\, homo-\, biseksuele\, transgender en intersekse) p
 ersonen\, oorspronkelijk voortkomend uit de Stonewall-rellen van 1969 in N
 ew York\, en benadrukt liefde\, inclusiviteit en trots. \n\nNaast de World
  Pride Amsterdam\, wordt er in verschillende andere steden in Nederland oo
 k Pride gevierd. Dit verschilt qua data wel met de World Pride Amsterdam.
SUMMARY:World Pride Amsterdam
END:VEVENT
END:VCALENDAR
