BEGIN:VCALENDAR
VERSION:2.0
PRODID:icalendar-ruby
CALSCALE:GREGORIAN
METHOD:PUBLISH
BEGIN:VEVENT
DTSTAMP:20260422T133728Z
UID:35f82ef5-2b04-4317-b558-1678ae9ab798
DTSTART:20260531T110000
DTEND:20260531T170000
DESCRIPTION:Het Mooie Kinderboekenfestival strijkt dit voorjaar voor de ach
 tste keer neer in de Amsterdamse Tolhuistuin. Tijdens dit vrolijke - en st
 eevast uitverkochte - familiefestival op zondag 31 mei 2026 kunnen kindere
 n vanaf 4 jaar zich onderdompelen in de fantasiewerelden uit de mooiste ki
 nderboeken van nu. \n\nHet leukste boekenfestival van Nederland wordt dit 
 jaar bonter dan ooit. Door middel van grappige en bijzondere voorstellinge
 n\, creatieve workshops en unieke doe-activiteiten kunnen kinderen ervaren
  hoe leuk boeken zijn. Alle programma’s zijn gebaseerd op de verhalen ui
 t de mooiste kinderboeken van het afgelopen jaar. Het festival streeft naa
 r een divers en inclusief programma waarin alle kinderen zich kunnen herke
 nnen en verwonderen.\n\nDe hele dag door zijn er activiteiten te doen in d
 e Tolhuistuin\, zowel binnen als buiten. \nBoeken komen tot leven door mid
 del van muziek\, theater\, beeldende kunst en mode. Er is een spannende ve
 rtelvoorstelling met klassieke muziek bij Lucy en donker en Gerson Main sp
 eelt de mooiste liedjes bij zijn debuut Alle dingen die mijn opa stiekem i
 s. Kinderen mogen spaghetti tegen de muur gooien\, net als het kind uit In
  de hoek of opgaan in een theatrale modeshow bij Sprookjes van overal. Ze 
 leren alles over het upcyclen van kleding bij het boek Ik wil geen nieuwe 
 broek!\, krijgen masterclasses van bekende illustratoren en maken kennis m
 et de betoverende kunst van het glasblazen uit De glazen dierentuin. En na
 tuurlijk zijn er schrijvers en illustratoren aanwezig\, waaronder kinderbo
 ekenveteraan Thé Tjong-Khing\, Hedy Tjin\, Gerson Main\, Harmen van Strat
 en en Karst-Janneke Rogaar. \n\nOrganisatie\nDe selectie van de festivalti
 tels is dit jaar gemaakt door een comité bestaande uit Aisha Plein (Inclu
 sieve Kinderboekenclub)\, Karlijn Cohen (eigenaar Kinderboekwinkel Casperl
 e) en Nathaly Loe Mie (boekverkoper Athenaeum Zuidoost). \n\nHet Mooie Kin
 derboekenfestival wordt georganiseerd door Kleine Lettertjes in coproducti
 e met Paradiso en mede mogelijk gemaakt door het Nederlands Letterenfonds\
 , het Amsterdams Fonds voor de Kunst\, de Lerak Foundation en de Versterki
 ng. Het festivalbeeld is ontworpen door illustrator Hedy Tjin. \n\nInforma
 tie\nHet festival duurt van 11:00 tot 17:00 in de Tolhuistuin\, naast Amst
 erdam Centraal. Het volledige festivalprogramma te vinden op kinderboekenf
 estival.nl. Tickets à €11\,- zijn vanaf 18 maart te koop via de website
  van Paradiso. \n\nNoot voor redactie: voor beeldmateriaal\, interviewverz
 oeken en andere vragen neem contact op met Nadesty Landvreugd van Kleine L
 ettertjes\, via 06 8314 6494 of communicatie@kleinelettertjes.com.\n
LOCATION:Amsterdam\, Tolhuistuin IJpromenade 2\, 1031 KT\, Amsterdam
SUMMARY:HET MOOIE KINDERBOEKENFESTIVAL BRENGT BOEKEN TOT LEVEN
URL;VALUE=URI:https://kinderboekenfestival.nl/
END:VEVENT
END:VCALENDAR
