BEGIN:VCALENDAR
VERSION:2.0
PRODID:icalendar-ruby
CALSCALE:GREGORIAN
METHOD:PUBLISH
BEGIN:VEVENT
DTSTAMP:20260422T114252Z
UID:226bfe0f-4e83-48e6-b5a8-85f063414268
DTSTART;VALUE=DATE:20260401
DTEND;VALUE=DATE:20260402
DESCRIPTION:De Dag van de Grap\, ook wel bekend als April Fools' Day\, is e
 en dag waarop mensen elkaar voor de gek proberen te houden
SUMMARY:Dag van de grap!
END:VEVENT
END:VCALENDAR
