BEGIN:VCALENDAR
VERSION:2.0
PRODID:icalendar-ruby
CALSCALE:GREGORIAN
METHOD:PUBLISH
BEGIN:VEVENT
DTSTAMP:20260422T115045Z
UID:96d71322-8bf7-438d-bb22-63e236d4212c
DTSTART;VALUE=DATE:20260410
DTEND;VALUE=DATE:20260418
DESCRIPTION:De Media Ukkie Dagen 2026 vinden plaats van 10 tot en met 17 ap
 ril\, met het thema ‘Kleuren\, kijken\, kletsen’.\nOver het evenement\
 nDe Media Ukkie Dagen zijn een jaarlijkse campagne van Netwerk Mediawijshe
 id die zich richt op kinderen van 0 tot 6 jaar en hun opvoeders. Het doel 
 is ouders\, verzorgers en professionals bewust te maken van de rol van med
 ia in het leven van jonge kinderen en hen te ondersteunen bij verantwoord 
 mediagebruik. Het thema van 2026\, ‘Kleuren\, kijken\, kletsen’\, bena
 drukt samen media ontdekken\, praten over media en creatief bezig zijn met
  digitale en analoge media
SUMMARY:Media Ukkie dagen 2026
URL;VALUE=URI:https://www.mediawijsheid.nl/
END:VEVENT
END:VCALENDAR
