BEGIN:VCALENDAR
VERSION:2.0
PRODID:icalendar-ruby
CALSCALE:GREGORIAN
METHOD:PUBLISH
BEGIN:VEVENT
DTSTAMP:20260422T134459Z
UID:cec3f6ea-c4e4-41cb-8dbb-f455035cbcd1
DTSTART;VALUE=DATE:20260506
DTEND;VALUE=DATE:20260507
DESCRIPTION:De jaarlijkse 'Internationale Bellenblaasdag' (International Bl
 owing Bubbles Day) is sinds 2011 een wereldwijd gevierde dag waarop op 6 m
 ei mensen zeepbellen blazen om iemand te gedenken\, een wens te doen of om
  andere redenen.
SUMMARY:Bellenblaasdag
URL;VALUE=URI:https://internationalblowingbubblesday.wordpress.com/
END:VEVENT
END:VCALENDAR
