BEGIN:VCALENDAR
VERSION:2.0
PRODID:icalendar-ruby
CALSCALE:GREGORIAN
METHOD:PUBLISH
BEGIN:VEVENT
DTSTAMP:20260422T133754Z
UID:efe19d81-420a-476e-b885-06b1f03b48ac
DTSTART;VALUE=DATE:20260517
DTEND;VALUE=DATE:20260518
DESCRIPTION:De natuurrijke speelplaats is een ‘iemand’ om mee te spelen
 \, te praten en om naar te luisteren. Dieren\, planten en water\, geven ge
 luid en vertellen je wat. Wanneer je in het vroege voorjaar je oor tegen e
 en berkenboom aanlegt dan kun je haar sap horen stromen en borrelen. Het i
 s een magisch geluid!\n\nTijdens de Dag van de Groene Kinderopvang staan w
 e hier extra bij stil.  Op deze dag kun je je kinderen laten zien en ervar
 en hoeveel boeiende mogelijkheden en gesprekken de natuur biedt. De natuur
  is niet voorgevormd\, het roept kinderen op tot ontdekken en vormgeven. E
 n daar komt veel en rijke taal bij kijken! Het jaarthema gaat over nieuwsg
 ierigheid\, verwondering en ontwikkeling.
SUMMARY:Dag van de Groene Kinderopvang
URL;VALUE=URI:https://www.groencement.nl/
END:VEVENT
END:VCALENDAR
