BEGIN:VCALENDAR
VERSION:2.0
PRODID:icalendar-ruby
CALSCALE:GREGORIAN
METHOD:PUBLISH
BEGIN:VEVENT
DTSTAMP:20260422T152159Z
UID:a267b41d-1a60-43ab-bcf6-c242029e88bc
DTSTART;VALUE=DATE:20260604
DTEND;VALUE=DATE:20260605
DESCRIPTION:Op 4 juni is het Nationale Opa en Oma dag. Deze feestdag is in 
 Nederland nog niet zo bekend\, maar bestaat al sinds 2004. Wij van Opa ‘
 n Oma zien wel wat in deze dag waar grootouders én overgrootouders in het
  zonnetje worden gezet.\n\nGrote rol van grootouders\nGrootouders spelen v
 aak een belangrijke rol bij het opgroeien en opvoeden van kinderen: door s
 amen op stap te gaan\, met tijd en aandacht met de kinderen te spelen en d
 oor er met een liefdevol luisterend oor te zijn. Vaak spelen opa’s en om
 a’s ook een belangrijke rol voor de ouders\, door met regelmaat op te pa
 ssen en hen te helpen in het drukke bestaan van de ouders van nu. Het is e
 en mooi gebaar om een keer per jaar stil te staan bij deze rol en alle opa
 ’s en oma’s in het zonnetje te zetten.
SUMMARY:Nationale Opa en Oma dag
URL;VALUE=URI:https://www.opanoma.nl/
END:VEVENT
END:VCALENDAR
