BEGIN:VCALENDAR
VERSION:2.0
PRODID:icalendar-ruby
CALSCALE:GREGORIAN
METHOD:PUBLISH
BEGIN:VEVENT
DTSTAMP:20260422T151555Z
UID:93c4099b-9668-4b3b-856a-c8fe4a8f3abf
DTSTART;VALUE=DATE:20260610
DTEND;VALUE=DATE:20260611
DESCRIPTION:De Nationale Buitenspeeldag is een jaarlijks terugkerend evenem
 ent sinds 1994\, georganiseerd om kinderen te stimuleren om buiten te spel
 en en te bewegen. Op deze dag worden straten\, schoolpleinen\, speeltuinen
  en buurten tijdelijk afgesloten voor verkeer\, zodat kinderen veilig kunn
 en spelen en ontdekken. Het evenement richt zich op plezier\, vrijheid\, b
 eweging en sociale interactie tussen kinderen. \n\nActiviteiten\nTijdens d
 e Buitenspeeldag worden allerlei activiteiten georganiseerd\, zoals stoepk
 rijten\, zaklopen\, touwtje springen\, kubb-toernooien\, springkussens en 
 hutten bouwen. Gemeenten\, scholen\, speeltuinverenigingen\, sportclubs\, 
 ouders en buurtbewoners worden opgeroepen om samen buitenspeelactiviteiten
  te organiseren. Ook kan er aandacht worden besteed aan gezonde voeding en
  waterpunten rondom de speelactiviteiten. \n\nDoel en impact\nHet doel van
  de dag is niet alleen plezier\, maar ook het bevorderen van een kindvrien
 delijke en beweegvriendelijke leefomgeving. Door straten af te sluiten en 
 activiteiten te organiseren\, wordt aandacht gevraagd voor verkeersveiligh
 eid en de inrichting van buurten. Gemeenten kunnen in gesprek gaan met kin
 deren en ouders over verbeteringen\, zoals veilige oversteekplaatsen\, sne
 lheidsbeperkende maatregelen of extra speelruimte. Onderzoek toont aan dat
  buitenspelen bijdraagt aan de fysieke\, mentale en sociale ontwikkeling v
 an kinderen en helpt overgewicht te voorkomen. \n\nMeedoen\nIedereen kan d
 eelnemen: van een eenvoudige stoepkrijtactie tot een georganiseerde speelm
 iddag in de straat of speeltuin. Aanmeldingen voor deelname worden via de 
 officiële websites van Jantje Beton en andere partners geopend\, zodat bu
 urten\, scholen en organisaties hun activiteiten kunnen plannen en promote
 n. \n\n\nDe Nationale Buitenspeeldag valt in 2026 samen met de Week voor d
 e Gezonde Jeugd\, wat extra mogelijkheden biedt om aandacht te besteden aa
 n een gezonde en actieve leefstijl. \njogg-academy.nl\n
SUMMARY:De Nationale Buitenspeeldag 2026
URL;VALUE=URI:https://jantjebeton.nl/wat-we-doen/buitenspeeldag
END:VEVENT
END:VCALENDAR
