BEGIN:VCALENDAR
VERSION:2.0
PRODID:icalendar-ruby
CALSCALE:GREGORIAN
METHOD:PUBLISH
BEGIN:VEVENT
DTSTAMP:20260422T151243Z
UID:909d654f-6180-447b-9acd-1ba738e9b76e
DTSTART;VALUE=DATE:20260629
DTEND;VALUE=DATE:20260630
DESCRIPTION:Op ModderDag draait alles om ontdekken\, spelen en… vies word
 en!\nKinderen mogen zich helemaal uitleven met water\, zand en natuurlijk 
 modder. Ze graven\, kliederen\, mengen en ervaren de natuur met al hun zin
 tuigen. Want op ModderDag geldt maar één regel: vies worden mág – en 
 het is nog leuk ook!\n\nEn dat vies worden niet alleen leuk\, maar ook gez
 ond is\, blijkt uit Fins onderzoek. Het aantal gevallen van astma en aller
 gieën is daar sterk afgenomen\, doordat kinderen in de natuur worden bloo
 tgesteld aan bacteriën en schimmels. Door in contact te komen met allerle
 i micro-organismen\, die wel in de natuur voorkomen en minder in stedelijk
 e omgevingen\, bouwen kinderen aan een sterk immuunsysteem. Lekker moddere
 n dus!
SUMMARY:ModderDag 2026
URL;VALUE=URI:https://www.ivn.nl/aanbod/kinderopvang/modderdag/
END:VEVENT
END:VCALENDAR
