BEGIN:VCALENDAR
VERSION:2.0
PRODID:icalendar-ruby
CALSCALE:GREGORIAN
METHOD:PUBLISH
BEGIN:VEVENT
DTSTAMP:20260422T205154Z
UID:27d853c6-6b65-437e-b438-be426157100e
DTSTART;VALUE=DATE:20260917
DTEND;VALUE=DATE:20260918
DESCRIPTION:De Dag van de Pedagogisch Professional is een jaarlijkse waarde
 ringsdag (de derde donderdag van september) waarop alle medewerkers in de 
 kinderopvang centraal staan. Het is een moment om stil te staan bij hun in
 zet\, betrokkenheid en dagelijkse bijdrage aan de ontwikkeling\, veilighei
 d en het welzijn van kinderen. De dag is voortgekomen uit eerdere initiati
 even zoals de Dag van de Pedagogisch Medewerker\, de Dag van de Leidster e
 n de Dag van de BSO-medewerker. Inmiddels worden al deze benamingen sameng
 ebracht onder één dag waarop álle pedagogisch professionals — in het 
 kinderdagverblijf\, de peuteropvang en de buitenschoolse opvang — worden
  gevierd.
SUMMARY:De Dag van de Pedagogisch Professional
URL;VALUE=URI:https://www.werkenbijkinderopvang.nl/mc-events/dag-van-de-ped
 agogisch-professional/?mc_id=79
END:VEVENT
END:VCALENDAR
