BEGIN:VCALENDAR
VERSION:2.0
PRODID:icalendar-ruby
CALSCALE:GREGORIAN
METHOD:PUBLISH
BEGIN:VEVENT
DTSTAMP:20260422T222536Z
UID:5c6bda77-ed7f-42f4-b540-b2d182e19720
DTSTART;VALUE=DATE:20261001
DTEND;VALUE=DATE:20261002
DESCRIPTION:Op deze dagen geven veel mensen wereldwijd hun huisdieren extra
  aandacht en trakteren ze ze op iets lekkers of een nieuw speeltje. Ook wo
 rden er vaak activiteiten georganiseerd\, zoals wandelingen met honden of 
 kattenshows. Daarnaast worden er op deze dag vaak donaties gedaan aan dier
 enbeschermingsorganisaties en worden er acties georganiseerd om geld in te
  zamelen voor het welzijn van dieren.
SUMMARY:Dierendag 2026
END:VEVENT
END:VCALENDAR
