BEGIN:VCALENDAR
VERSION:2.0
PRODID:icalendar-ruby
CALSCALE:GREGORIAN
METHOD:PUBLISH
BEGIN:VEVENT
DTSTAMP:20260422T235153Z
UID:9a27d4d2-b6af-4513-adfb-045762f978ed
DTSTART;VALUE=DATE:20261109
DTEND;VALUE=DATE:20261114
DESCRIPTION:Ook leuk voor de kinderopvang: Het ontbijtpakket stellen we sam
 en volgens de richtlijnen van de Schijf van Vijf met gezonde keuzes voor i
 eder kind natuurlijk! En keuze is er genoeg. 
SUMMARY:Nationaal Schoolontbijt
URL;VALUE=URI:https://www.schoolontbijt.nl/
END:VEVENT
END:VCALENDAR
