BEGIN:VCALENDAR
VERSION:2.0
PRODID:icalendar-ruby
CALSCALE:GREGORIAN
METHOD:PUBLISH
BEGIN:VEVENT
DTSTAMP:20260422T173041Z
UID:2c34a72d-875c-4c05-a1cd-68878454d2f6
DTSTART;VALUE=DATE:20260701
DTEND;VALUE=DATE:20260702
DESCRIPTION:Keti Koti 2026 vindt plaats op woensdag 1 juli. Op deze dag wor
 dt de afschaffing van de slavernij in Suriname en de Nederlandse Antillen 
 herdacht en gevierd. Ook binnen Dinck hebben we aandacht voor Keti Koti\, 
 kijk bij het thema Vieringen voor de passende poster en activiteiten!
SUMMARY:Keti Koti
END:VEVENT
END:VCALENDAR
