BEGIN:VCALENDAR
VERSION:2.0
PRODID:icalendar-ruby
CALSCALE:GREGORIAN
METHOD:PUBLISH
BEGIN:VEVENT
DTSTAMP:20260422T224314Z
UID:0443eb33-303f-405c-8850-4daedc1e51bb
DTSTART;VALUE=DATE:20261031
DTEND;VALUE=DATE:20261101
DESCRIPTION:Waarom is Halloween altijd op 31 oktober?\nDe datum van Hallowe
 en staat vast omdat deze verbonden is aan de christelijke kalender. De naa
 m Halloween is een verbastering van All Hallows’ Eve\, oftewel de avond 
 voor Allerheiligen.\n\nAllerheiligen valt altijd op 1 november. Volgens ou
 de overtuigingen was de avond daarvóór (31 oktober) het moment waarop de
  sluier tussen de wereld van de levenden en de doden het dunst was. Om boz
 e geesten af te schrikken\, droegen mensen maskers en maakten ze vuur. Dit
  is geëvolueerd tot de verkleedpartijen die we nu kennen.\nNatuurlijk ook
  in Dinck aandacht voor Halloween!
SUMMARY:Halloween
END:VEVENT
END:VCALENDAR
