BEGIN:VCALENDAR
VERSION:2.0
PRODID:icalendar-ruby
CALSCALE:GREGORIAN
METHOD:PUBLISH
BEGIN:VEVENT
DTSTAMP:20260422T191313Z
UID:2c149437-fa90-4d9f-af79-e595ed7d2611
DTSTART;VALUE=DATE:20260611
DTEND;VALUE=DATE:20260720
DESCRIPTION:Het WK Voetbal 2026 wordt een toernooi van records. Voor het ee
 rst wordt het georganiseerd door drie landen (Verenigde Staten\, Canada en
  Mexico) en doen er maar liefst 48 landen mee. Van 11 juni tot en met 19 j
 uli is de wereld in de ban van de bal.\nVoor de Nederlandse kijker wordt h
 et waarschijnlijk weer nachtwerk. Omdat het toernooi in Noord-Amerika is\,
  zullen veel wedstrijden in de Nederlandse avond en nacht worden uitgezond
 en. Het tijdsverschil varieert van 6 uur (New York) tot wel 9 uur (Los Ang
 eles/Vancouver) vroeger dan in Nederland.
SUMMARY:WK Voetbal
END:VEVENT
END:VCALENDAR
