BEGIN:VCALENDAR
VERSION:2.0
PRODID:icalendar-ruby
CALSCALE:GREGORIAN
METHOD:PUBLISH
BEGIN:VEVENT
DTSTAMP:20260422T210113Z
UID:cb181da9-81be-44fa-bb2e-ced9d09a418c
DTSTART;VALUE=DATE:20260930
DTEND;VALUE=DATE:20261012
DESCRIPTION:We gaan de planken op! Het thema van de 72e Kinderboekenwee
 k is ‘Spot aan!’. Door boeken te lezen\, kun je van alles ervaren.
  De ene keer ben je een beroemde zanger die de sterren van de hemel zing
 t tijdens een uitverkocht concert en de andere keer iemand die de hele
  klas aan het lachen krijgt met een goede mop. In kinderboeken vind 
 je podiumbeesten in alle soorten en maten! Voor of achter de schermen\
 , met plankenkoorts of zonder. De Kinderboekenweek 2026 is jouw kans o
 m op te treden – in je hoofd of in het echt!  Spot aan!\n\nAan
 komende Kinderboekenweek staan Milouska Meulens en Harmen van Straaten in 
 de schijnwerpers voor het Kinderboekenweekgeschenk en het Prentenboek van 
 de Kinderboekenweek 2026.
SUMMARY:Kinderboekenweek
URL;VALUE=URI:https://www.kinderboeken.nl/inspiratie/kinderboekenweek/
END:VEVENT
END:VCALENDAR
